BEGIN:VCALENDAR
VERSION:2.0
PRODID:-//Bethesda Episcopal Church - ECPv6.15.20//NONSGML v1.0//EN
CALSCALE:GREGORIAN
METHOD:PUBLISH
X-WR-CALNAME:Bethesda Episcopal Church
X-ORIGINAL-URL:https://bethesdachurch.org
X-WR-CALDESC:Events for Bethesda Episcopal Church
REFRESH-INTERVAL;VALUE=DURATION:PT1H
X-Robots-Tag:noindex
X-PUBLISHED-TTL:PT1H
BEGIN:VTIMEZONE
TZID:America/New_York
BEGIN:DAYLIGHT
TZOFFSETFROM:-0500
TZOFFSETTO:-0400
TZNAME:EDT
DTSTART:20240310T070000
END:DAYLIGHT
BEGIN:STANDARD
TZOFFSETFROM:-0400
TZOFFSETTO:-0500
TZNAME:EST
DTSTART:20241103T060000
END:STANDARD
BEGIN:DAYLIGHT
TZOFFSETFROM:-0500
TZOFFSETTO:-0400
TZNAME:EDT
DTSTART:20250309T070000
END:DAYLIGHT
BEGIN:STANDARD
TZOFFSETFROM:-0400
TZOFFSETTO:-0500
TZNAME:EST
DTSTART:20251102T060000
END:STANDARD
BEGIN:DAYLIGHT
TZOFFSETFROM:-0500
TZOFFSETTO:-0400
TZNAME:EDT
DTSTART:20260308T070000
END:DAYLIGHT
BEGIN:STANDARD
TZOFFSETFROM:-0400
TZOFFSETTO:-0500
TZNAME:EST
DTSTART:20261101T060000
END:STANDARD
END:VTIMEZONE
BEGIN:VEVENT
DTSTART;TZID=America/New_York:20250209T150000
DTEND;TZID=America/New_York:20250209T150000
DTSTAMP:20260425T224256
CREATED:20250116T203555Z
LAST-MODIFIED:20250116T204009Z
UID:14279-1739113200-1739113200@bethesdachurch.org
SUMMARY:Winter Spirits - Choral Concert
DESCRIPTION:Come hear the Capital Region’s newest choral group: a small vocal chamber ensemble dedicated to the highest caliber performance of historic and majestic great works. After a successful premier this past summer\, we are proud to offer “Winter Spirits.” \nThis concert traverses the centuries and features the Motet\, Jesu\, Meine Freude by J.S. Bach\, and two works by Ralph Vaughan Williams in the English choral tradition: Mass in G and Serenade to Music. \nAndrew Burger\, Artistic Director Tickets $25\, general seating www.excelsiorvocalensemble.org 
URL:https://bethesdachurch.org/event/winter-spirits-choral-concert/
LOCATION:Bethesda Episcopal Church\, 26 Washington St.\, Saratoga Springs\, NY\, 12866
CATEGORIES:Parish Life,Concerts & Recitals,Giving
ATTACH;FMTTYPE=image/jpeg:https://bethesdachurch.org/wp-content/uploads/2025/01/Winter-Spirits.jpg
END:VEVENT
END:VCALENDAR