BEGIN:VCALENDAR
VERSION:2.0
PRODID:-//Bethesda Episcopal Church - ECPv6.15.20//NONSGML v1.0//EN
CALSCALE:GREGORIAN
METHOD:PUBLISH
X-WR-CALNAME:Bethesda Episcopal Church
X-ORIGINAL-URL:https://bethesdachurch.org
X-WR-CALDESC:Events for Bethesda Episcopal Church
REFRESH-INTERVAL;VALUE=DURATION:PT1H
X-Robots-Tag:noindex
X-PUBLISHED-TTL:PT1H
BEGIN:VTIMEZONE
TZID:America/New_York
BEGIN:DAYLIGHT
TZOFFSETFROM:-0500
TZOFFSETTO:-0400
TZNAME:EDT
DTSTART:20250309T070000
END:DAYLIGHT
BEGIN:STANDARD
TZOFFSETFROM:-0400
TZOFFSETTO:-0500
TZNAME:EST
DTSTART:20251102T060000
END:STANDARD
BEGIN:DAYLIGHT
TZOFFSETFROM:-0500
TZOFFSETTO:-0400
TZNAME:EDT
DTSTART:20260308T070000
END:DAYLIGHT
BEGIN:STANDARD
TZOFFSETFROM:-0400
TZOFFSETTO:-0500
TZNAME:EST
DTSTART:20261101T060000
END:STANDARD
BEGIN:DAYLIGHT
TZOFFSETFROM:-0500
TZOFFSETTO:-0400
TZNAME:EDT
DTSTART:20270314T070000
END:DAYLIGHT
BEGIN:STANDARD
TZOFFSETFROM:-0400
TZOFFSETTO:-0500
TZNAME:EST
DTSTART:20271107T060000
END:STANDARD
END:VTIMEZONE
BEGIN:VEVENT
DTSTART;VALUE=DATE:20260301
DTEND;VALUE=DATE:20260302
DTSTAMP:20260419T081022
CREATED:20251229T215130Z
LAST-MODIFIED:20251229T215130Z
UID:15337-1772323200-1772409599@bethesdachurch.org
SUMMARY:The Second Sunday in Lent
DESCRIPTION:This is the second of five Sundays in Lent before Palm Sunday\, which marks the beginning of Holy Week. \nCollect \nO God\, whose glory it is always to have mercy: Be gracious to all who have gone astray from thy ways\, and bring them again with penitent hearts and steadfast faith to embrace and hold fast the unchangeable truth of thy Word\, Jesus Christ thy Son; who with thee and the Holy Spirit liveth and reigneth\, one God\, for ever and ever. Amen. \nAppointed Readings \n\nGenesis 12:1-4a\nPsalm: 121\nRomans 4:1-5\, 13-17\nJohn 3:1-17\n\nWorship Services for the Second Sunday in Lent\n \nSunday 8am\, Sunday 10am \nAbout the image\n \nChrist Among the Pharisees (1660-1670)\, Jacob Jordaens \nResources \nParking and Accessibility\nGive via PayPal or Credit Card
URL:https://bethesdachurch.org/event/the-second-sunday-in-lent-4/
LOCATION:NY
CATEGORIES:Worship
ATTACH;FMTTYPE=image/jpeg:https://bethesdachurch.org/wp-content/uploads/2022/02/Christ-Among-the-Pharisees-1660-1670-Jacob-Jordaens.jpg
END:VEVENT
BEGIN:VEVENT
DTSTART;TZID=America/New_York:20260301T080000
DTEND;TZID=America/New_York:20260301T080000
DTSTAMP:20260419T081022
CREATED:20251229T212334Z
LAST-MODIFIED:20251229T215233Z
UID:15299-1772352000-1772352000@bethesdachurch.org
SUMMARY:Holy Eucharist (Rite I)
DESCRIPTION:In the name of our Lord Jesus Christ\, welcome! \nThis said service of Holy Eucharist occurs most Sundays at 8am. It is a Rite I service\, meaning that it uses the more traditional language of the 1979 Book of Common Prayer. This service includes lessons\, prayers\, a short sermon\, and Holy Communion. All baptized Christians are welcome to make their communion in The Episcopal Church. \nIf you aren’t yet baptized but are considering it\, let us know! Contact us and we’ll be happy to talk about it. \nRead more about the Second Sunday in Lent \nResources \nParking and Accessibility\nGive via PayPal or a Credit Card
URL:https://bethesdachurch.org/event/holy-eucharist-rite-i-8/
LOCATION:Bethesda Episcopal Church\, 26 Washington St.\, Saratoga Springs\, NY\, 12866
CATEGORIES:Worship,The Eucharist (Mass)
ATTACH;FMTTYPE=image/jpeg:https://bethesdachurch.org/wp-content/uploads/2022/02/holy-communion-510x288-1.jpg
END:VEVENT
BEGIN:VEVENT
DTSTART;TZID=America/New_York:20260301T100000
DTEND;TZID=America/New_York:20260301T100000
DTSTAMP:20260419T081022
CREATED:20251229T212353Z
LAST-MODIFIED:20260226T191431Z
UID:15298-1772359200-1772359200@bethesdachurch.org
SUMMARY:Sung Eucharist (Rite I) and Sermon
DESCRIPTION:In the name of our Lord Jesus Christ\, welcome! \nThis sung Eucharist is a Rite I service\, meaning that it uses the more traditional language of the 1979 Book of Common Prayer. This service includes lessons\, prayers\, congregational singing\, a sermon\, and Holy Communion. All baptized Christians are welcome to make their communion in The Episcopal Church. \nIf you aren’t yet baptized but are considering it\, let us know! Contact us and we’ll be happy to talk about it. \nRead more about the Second Sunday in Lent \nResources\nService Bulletin \nParking and Accessibility\nGive via PayPal or Credit Card
URL:https://bethesdachurch.org/event/sung-eucharist-rite-i-and-sermon-8/
LOCATION:Bethesda Episcopal Church\, 26 Washington St.\, Saratoga Springs\, NY\, 12866
CATEGORIES:Worship,The Eucharist (Mass)
ATTACH;FMTTYPE=image/jpeg:https://bethesdachurch.org/wp-content/uploads/2022/02/holy-communion-510x288-1.jpg
END:VEVENT
END:VCALENDAR