BEGIN:VCALENDAR
VERSION:2.0
PRODID:-//Bethesda Episcopal Church - ECPv6.15.20//NONSGML v1.0//EN
CALSCALE:GREGORIAN
METHOD:PUBLISH
X-ORIGINAL-URL:https://bethesdachurch.org
X-WR-CALDESC:Events for Bethesda Episcopal Church
REFRESH-INTERVAL;VALUE=DURATION:PT1H
X-Robots-Tag:noindex
X-PUBLISHED-TTL:PT1H
BEGIN:VTIMEZONE
TZID:America/New_York
BEGIN:DAYLIGHT
TZOFFSETFROM:-0500
TZOFFSETTO:-0400
TZNAME:EDT
DTSTART:20230312T070000
END:DAYLIGHT
BEGIN:STANDARD
TZOFFSETFROM:-0400
TZOFFSETTO:-0500
TZNAME:EST
DTSTART:20231105T060000
END:STANDARD
BEGIN:DAYLIGHT
TZOFFSETFROM:-0500
TZOFFSETTO:-0400
TZNAME:EDT
DTSTART:20240310T070000
END:DAYLIGHT
BEGIN:STANDARD
TZOFFSETFROM:-0400
TZOFFSETTO:-0500
TZNAME:EST
DTSTART:20241103T060000
END:STANDARD
BEGIN:DAYLIGHT
TZOFFSETFROM:-0500
TZOFFSETTO:-0400
TZNAME:EDT
DTSTART:20250309T070000
END:DAYLIGHT
BEGIN:STANDARD
TZOFFSETFROM:-0400
TZOFFSETTO:-0500
TZNAME:EST
DTSTART:20251102T060000
END:STANDARD
END:VTIMEZONE
BEGIN:VEVENT
DTSTART;TZID=America/New_York:20240812T193000
DTEND;TZID=America/New_York:20240812T203000
DTSTAMP:20260419T160421
CREATED:20240712T155638Z
LAST-MODIFIED:20240712T155816Z
UID:13801-1723491000-1723494600@bethesdachurch.org
SUMMARY:Concert - Melodic Heritage
DESCRIPTION:An evening recital celebrating folk\, vocal and aural traditions in Western classical music. \nFeaturing works by: \n\nDe Falla\nHandel\nHailstork\nLiszt\nPoulenc\nRachmaninoff\n\nArtists: Madeleine Corrigan\, cello; Luke Stowell\, baritone; and Bailey Hobbs\, piano \nThis concert series funded by the 2024 Summer Study in Music Grant awarded to Madeleine Corrigan by the Marinus and Minna B. Koster Foundation.
URL:https://bethesdachurch.org/event/concert-melodic-heritage/
LOCATION:Bethesda Episcopal Church\, 26 Washington St.\, Saratoga Springs\, NY\, 12866
CATEGORIES:Parish Life,Concerts & Recitals,Social Events,Newcomers,Giving
ATTACH;FMTTYPE=image/jpeg:https://bethesdachurch.org/wp-content/uploads/2024/07/2024.08.12-Concert-cropped.jpg
END:VEVENT
END:VCALENDAR