BEGIN:VCALENDAR
VERSION:2.0
PRODID:-//Bethesda Episcopal Church - ECPv6.15.20//NONSGML v1.0//EN
CALSCALE:GREGORIAN
METHOD:PUBLISH
X-ORIGINAL-URL:https://bethesdachurch.org
X-WR-CALDESC:Events for Bethesda Episcopal Church
REFRESH-INTERVAL;VALUE=DURATION:PT1H
X-Robots-Tag:noindex
X-PUBLISHED-TTL:PT1H
BEGIN:VTIMEZONE
TZID:America/New_York
BEGIN:DAYLIGHT
TZOFFSETFROM:-0500
TZOFFSETTO:-0400
TZNAME:EDT
DTSTART:20210314T070000
END:DAYLIGHT
BEGIN:STANDARD
TZOFFSETFROM:-0400
TZOFFSETTO:-0500
TZNAME:EST
DTSTART:20211107T060000
END:STANDARD
BEGIN:DAYLIGHT
TZOFFSETFROM:-0500
TZOFFSETTO:-0400
TZNAME:EDT
DTSTART:20220313T070000
END:DAYLIGHT
BEGIN:STANDARD
TZOFFSETFROM:-0400
TZOFFSETTO:-0500
TZNAME:EST
DTSTART:20221106T060000
END:STANDARD
BEGIN:DAYLIGHT
TZOFFSETFROM:-0500
TZOFFSETTO:-0400
TZNAME:EDT
DTSTART:20230312T070000
END:DAYLIGHT
BEGIN:STANDARD
TZOFFSETFROM:-0400
TZOFFSETTO:-0500
TZNAME:EST
DTSTART:20231105T060000
END:STANDARD
END:VTIMEZONE
BEGIN:VEVENT
DTSTART;TZID=America/New_York:20221030T080000
DTEND;TZID=America/New_York:20221030T080000
DTSTAMP:20260423T101635
CREATED:20220901T210716Z
LAST-MODIFIED:20220901T210716Z
UID:11587-1667116800-1667116800@bethesdachurch.org
SUMMARY:Holy Eucharist (Rite I)
DESCRIPTION:In the name of our Lord Jesus Christ\, welcome! \nThis said service of Holy Eucharist occurs most Sundays at 8am. It is a Rite I service\, meaning that it uses the more traditional language of the 1979 Book of Common Prayer. This service includes lessons\, prayers\, a short sermon\, and Holy Communion. All baptized Christians are welcome to make their communion in The Episcopal Church. \nIf you aren’t yet baptized but are considering it\, let us know! Contact us and we’ll be happy to talk about it. \nResources \nParking and Accessibility\nGive via PayPal or a Credit Card
URL:https://bethesdachurch.org/event/holy-eucharist-rite-i-39/
LOCATION:Bethesda Episcopal Church\, 26 Washington St.\, Saratoga Springs\, NY\, 12866
CATEGORIES:The Eucharist (Mass),Worship
ATTACH;FMTTYPE=image/jpeg:https://bethesdachurch.org/wp-content/uploads/2022/02/holy-communion-510x288-1.jpg
END:VEVENT
BEGIN:VEVENT
DTSTART;TZID=America/New_York:20221030T092000
DTEND;TZID=America/New_York:20221030T095000
DTSTAMP:20260423T101635
CREATED:20220830T180918Z
LAST-MODIFIED:20220830T180918Z
UID:11549-1667121600-1667123400@bethesdachurch.org
SUMMARY:Genesis Bible Study (Session 8)
DESCRIPTION:Genesis Bible Study\, led by Dr. Blaine Edele\, will commence on Sunday\, 11 September at 9:30 am.  All welcome and no registration required.
URL:https://bethesdachurch.org/event/genesis-bible-study-8/
LOCATION:Bethesda Episcopal Church\, 26 Washington St.\, Saratoga Springs\, NY\, 12866
CATEGORIES:Classes,Newcomers,Parish Life
ATTACH;FMTTYPE=image/jpeg:https://bethesdachurch.org/wp-content/uploads/2022/02/genesis-chapter-one-510x288-1.jpg
END:VEVENT
BEGIN:VEVENT
DTSTART;TZID=America/New_York:20221030T100000
DTEND;TZID=America/New_York:20221030T100000
DTSTAMP:20260423T101635
CREATED:20220901T210740Z
LAST-MODIFIED:20221027T192431Z
UID:11588-1667124000-1667124000@bethesdachurch.org
SUMMARY:Sung Eucharist (Rite I) and Sermon
DESCRIPTION:In the name of our Lord Jesus Christ\, welcome! \nThis sung Eucharist is a Rite I service\, meaning that it uses the more traditional language of the 1979 Book of Common Prayer. This service includes lessons\, prayers\, congregational singing\, a sermon\, and Holy Communion. All baptized Christians are welcome to make their communion in The Episcopal Church. \nIf you aren’t yet baptized but are considering it\, let us know! Contact us and we’ll be happy to talk about it. \nResources \nService Bulletin\nParking and Accessibility\nGive via PayPal or Credit Card
URL:https://bethesdachurch.org/event/sung-eucharist-rite-i-and-sermon-38/
LOCATION:Bethesda Episcopal Church\, 26 Washington St.\, Saratoga Springs\, NY\, 12866
CATEGORIES:The Eucharist (Mass),Worship
ATTACH;FMTTYPE=image/jpeg:https://bethesdachurch.org/wp-content/uploads/2022/02/holy-communion-510x288-1.jpg
END:VEVENT
END:VCALENDAR