BEGIN:VCALENDAR
VERSION:2.0
PRODID:-//Bethesda Episcopal Church - ECPv6.15.20//NONSGML v1.0//EN
CALSCALE:GREGORIAN
METHOD:PUBLISH
X-WR-CALNAME:Bethesda Episcopal Church
X-ORIGINAL-URL:https://bethesdachurch.org
X-WR-CALDESC:Events for Bethesda Episcopal Church
REFRESH-INTERVAL;VALUE=DURATION:PT1H
X-Robots-Tag:noindex
X-PUBLISHED-TTL:PT1H
BEGIN:VTIMEZONE
TZID:America/New_York
BEGIN:DAYLIGHT
TZOFFSETFROM:-0500
TZOFFSETTO:-0400
TZNAME:EDT
DTSTART:20250309T070000
END:DAYLIGHT
BEGIN:STANDARD
TZOFFSETFROM:-0400
TZOFFSETTO:-0500
TZNAME:EST
DTSTART:20251102T060000
END:STANDARD
BEGIN:DAYLIGHT
TZOFFSETFROM:-0500
TZOFFSETTO:-0400
TZNAME:EDT
DTSTART:20260308T070000
END:DAYLIGHT
BEGIN:STANDARD
TZOFFSETFROM:-0400
TZOFFSETTO:-0500
TZNAME:EST
DTSTART:20261101T060000
END:STANDARD
BEGIN:DAYLIGHT
TZOFFSETFROM:-0500
TZOFFSETTO:-0400
TZNAME:EDT
DTSTART:20270314T070000
END:DAYLIGHT
BEGIN:STANDARD
TZOFFSETFROM:-0400
TZOFFSETTO:-0500
TZNAME:EST
DTSTART:20271107T060000
END:STANDARD
END:VTIMEZONE
BEGIN:VEVENT
DTSTART;VALUE=DATE:20260222
DTEND;VALUE=DATE:20260223
DTSTAMP:20260418T231837
CREATED:20251229T214519Z
LAST-MODIFIED:20251229T214519Z
UID:15336-1771718400-1771804799@bethesdachurch.org
SUMMARY:The First Sunday in Lent
DESCRIPTION:Lent is a penitential season which began on Ash Wednesday and culminates in Holy Week. This first Sunday in Lent is always marked by a reading of the account of the temptation of Christ in the desert. \nCollect \nAlmighty God\, whose blessed Son was led by the Spirit to be tempted of Satan: Make speed to help thy servants who are assaulted by manifold temptations; and\, as thou knowest their several infirmities\, let each one find thee mighty to save; through Jesus Christ thy Son our Lord\, who liveth and reigneth with thee and the Holy Spirit\, one God\, now and for ever. Amen. \nAppointed Readings \n\nGenesis 2:15-17; 3:1-7\nPsalm 32\nRomans 5:12-19\nMatthew 4:1-11\n\nWorship Services for the First Sunday in Lent\n \nSunday 8am\, Sunday 10am \nAbout the image\n \nJesus Tempted in the Wilderness (1886-1894)\, James Tissot \nResources \nParking and Accessibility\nGive via Paypal or Credit Card
URL:https://bethesdachurch.org/event/the-first-sunday-in-lent-4/
CATEGORIES:Worship
ATTACH;FMTTYPE=image/jpeg:https://bethesdachurch.org/wp-content/uploads/2022/02/Jesus-tempted-in-the-wilderness-1886-1894-James-Tissot.jpg
END:VEVENT
END:VCALENDAR